BEGIN:VCALENDAR
VERSION:2.0
PRODID:-//Geelong Fishing Charters - ECPv6.13.2.1//NONSGML v1.0//EN
CALSCALE:GREGORIAN
METHOD:PUBLISH
X-WR-CALNAME:Geelong Fishing Charters
X-ORIGINAL-URL:https://geelong.vanderlyle-geek.co.uk
X-WR-CALDESC:Events for Geelong Fishing Charters
REFRESH-INTERVAL;VALUE=DURATION:PT1H
X-Robots-Tag:noindex
X-PUBLISHED-TTL:PT1H
BEGIN:VTIMEZONE
TZID:Australia/Melbourne
BEGIN:STANDARD
TZOFFSETFROM:+1100
TZOFFSETTO:+1000
TZNAME:AEST
DTSTART:20240406T160000
END:STANDARD
BEGIN:DAYLIGHT
TZOFFSETFROM:+1000
TZOFFSETTO:+1100
TZNAME:AEDT
DTSTART:20241005T160000
END:DAYLIGHT
END:VTIMEZONE
BEGIN:VEVENT
DTSTART;TZID=Australia/Melbourne:20240926T080000
DTEND;TZID=Australia/Melbourne:20240926T120000
DTSTAMP:20260420T031122
CREATED:20240807T003411Z
LAST-MODIFIED:20240807T003411Z
UID:10000014-1727337600-1727352000@geelong.vanderlyle-geek.co.uk
SUMMARY:4-hr Regular Charter
DESCRIPTION:4-hr regular family-friendly charter
URL:https://geelong.vanderlyle-geek.co.uk/event/4-hr-regular-charter/2024-09-26/
LOCATION:Wangim Walk\, Wangim Walk\, 15 Eastern Beach Road\, Geelong\, Victoria\, Australia
ORGANIZER;CN="Geelong Fishing Charters":MAILTO:info@geelongfishingcharter.com.au
END:VEVENT
BEGIN:VEVENT
DTSTART;TZID=Australia/Melbourne:20240922T080000
DTEND;TZID=Australia/Melbourne:20240922T170000
DTSTAMP:20260420T031122
CREATED:20240918T173550Z
LAST-MODIFIED:20240918T175706Z
UID:10000040-1726992000-1727024400@geelong.vanderlyle-geek.co.uk
SUMMARY:test
DESCRIPTION:test event
URL:https://geelong.vanderlyle-geek.co.uk/event/test-2/
LOCATION:Wangim Walk\, Wangim Walk\, 15 Eastern Beach Road\, Geelong\, Victoria\, Australia
ORGANIZER;CN="Geelong Fishing Charters":MAILTO:info@geelongfishingcharter.com.au
END:VEVENT
BEGIN:VEVENT
DTSTART;TZID=Australia/Melbourne:20240921T103000
DTEND;TZID=Australia/Melbourne:20240921T143000
DTSTAMP:20260420T031122
CREATED:20240807T003411Z
LAST-MODIFIED:20240807T003411Z
UID:10000013-1726914600-1726929000@geelong.vanderlyle-geek.co.uk
SUMMARY:4-hr Regular Charter
DESCRIPTION:4-hr regular family-friendly charter
URL:https://geelong.vanderlyle-geek.co.uk/event/4-hr-regular-charter/2024-09-21/
LOCATION:Wangim Walk\, Wangim Walk\, 15 Eastern Beach Road\, Geelong\, Victoria\, Australia
ORGANIZER;CN="Geelong Fishing Charters":MAILTO:info@geelongfishingcharter.com.au
END:VEVENT
BEGIN:VEVENT
DTSTART;TZID=Australia/Melbourne:20240920T190000
DTEND;TZID=Australia/Melbourne:20240920T230000
DTSTAMP:20260420T031122
CREATED:20240801T214307Z
LAST-MODIFIED:20240918T172331Z
UID:10000006-1726858800-1726873200@geelong.vanderlyle-geek.co.uk
SUMMARY:test - 2hr short charter
DESCRIPTION:Experience the thrill of the open waters with our exclusive 2-hour fishing charter\, where adventure and relaxation await. Join us for an unforgettable journey as you cast your line\, soak in the stunning surroundings\, and create lasting memories.
URL:https://geelong.vanderlyle-geek.co.uk/event/2hr-short-charter-3/
LOCATION:Wangim Walk\, Wangim Walk\, 15 Eastern Beach Road\, Geelong\, Victoria\, Australia
ATTACH;FMTTYPE=image/jpeg:https://geelong.vanderlyle-geek.co.uk/wp-content/uploads/2024/05/2020_TRACKER_102020_Deep-V-Boats_132020_PRO-GUIDE-V-175-Combo_4920_Lifestyle-Branded_1328171_TPG175C_LS007_20-e1716459993178.jpeg
ORGANIZER;CN="Geelong Fishing Charters":MAILTO:info@geelongfishingcharter.com.au
END:VEVENT
BEGIN:VEVENT
DTSTART;TZID=Australia/Melbourne:20240919T210000
DTEND;TZID=Australia/Melbourne:20240920T010000
DTSTAMP:20260420T031122
CREATED:20240801T102925Z
LAST-MODIFIED:20240912T103559Z
UID:10000004-1726779600-1726794000@geelong.vanderlyle-geek.co.uk
SUMMARY:2hr short charter for Fathers Day
DESCRIPTION:Experience the thrill of the open waters with our exclusive 2-hour fishing charter\, where adventure and relaxation await. Join us for an unforgettable journey as you cast your line\, soak in the stunning surroundings\, and create lasting memories.
URL:https://geelong.vanderlyle-geek.co.uk/event/2hr-short-charter/
LOCATION:Wangim Walk\, Wangim Walk\, 15 Eastern Beach Road\, Geelong\, Victoria\, Australia
ATTACH;FMTTYPE=image/jpeg:https://geelong.vanderlyle-geek.co.uk/wp-content/uploads/2024/05/2020_TRACKER_102020_Deep-V-Boats_132020_PRO-GUIDE-V-175-Combo_4920_Lifestyle-Branded_1328171_TPG175C_LS007_20-e1716459993178.jpeg
ORGANIZER;CN="Geelong Fishing Charters":MAILTO:info@geelongfishingcharter.com.au
END:VEVENT
BEGIN:VEVENT
DTSTART;TZID=Australia/Melbourne:20240908T090000
DTEND;TZID=Australia/Melbourne:20240908T130000
DTSTAMP:20260420T031122
CREATED:20240807T003411Z
LAST-MODIFIED:20240807T003411Z
UID:10000012-1725786000-1725800400@geelong.vanderlyle-geek.co.uk
SUMMARY:4-hr Regular Charter
DESCRIPTION:4-hr regular family-friendly charter
URL:https://geelong.vanderlyle-geek.co.uk/event/4-hr-regular-charter/2024-09-08/
LOCATION:Wangim Walk\, Wangim Walk\, 15 Eastern Beach Road\, Geelong\, Victoria\, Australia
ORGANIZER;CN="Geelong Fishing Charters":MAILTO:info@geelongfishingcharter.com.au
END:VEVENT
BEGIN:VEVENT
DTSTART;TZID=Australia/Melbourne:20240901T110000
DTEND;TZID=Australia/Melbourne:20240901T150000
DTSTAMP:20260420T031122
CREATED:20240807T003411Z
LAST-MODIFIED:20240807T003411Z
UID:10000011-1725188400-1725202800@geelong.vanderlyle-geek.co.uk
SUMMARY:4-hr Regular Charter
DESCRIPTION:4-hr regular family-friendly charter
URL:https://geelong.vanderlyle-geek.co.uk/event/4-hr-regular-charter/2024-09-01/
LOCATION:Wangim Walk\, Wangim Walk\, 15 Eastern Beach Road\, Geelong\, Victoria\, Australia
ORGANIZER;CN="Geelong Fishing Charters":MAILTO:info@geelongfishingcharter.com.au
END:VEVENT
BEGIN:VEVENT
DTSTART;TZID=Australia/Melbourne:20240825T164500
DTEND;TZID=Australia/Melbourne:20240825T204500
DTSTAMP:20260420T031122
CREATED:20240729T124651Z
LAST-MODIFIED:20240801T085606Z
UID:10000002-1724604300-1724618700@geelong.vanderlyle-geek.co.uk
SUMMARY:2hr short charter
DESCRIPTION:Experience the thrill of the open waters with our exclusive 2-hour fishing charter\, where adventure and relaxation await. Join us for an unforgettable journey as you cast your line\, soak in the stunning surroundings\, and create lasting memories.
URL:https://geelong.vanderlyle-geek.co.uk/event/regular-2/
LOCATION:Wangim Walk\, Wangim Walk\, 15 Eastern Beach Road\, Geelong\, Victoria\, Australia
ATTACH;FMTTYPE=image/jpeg:https://geelong.vanderlyle-geek.co.uk/wp-content/uploads/2024/05/2020_TRACKER_102020_Deep-V-Boats_132020_PRO-GUIDE-V-175-Combo_4920_Lifestyle-Branded_1328171_TPG175C_LS007_20-e1716459993178.jpeg
ORGANIZER;CN="Geelong Fishing Charters":MAILTO:info@geelongfishingcharter.com.au
END:VEVENT
BEGIN:VEVENT
DTSTART;TZID=Australia/Melbourne:20240825T080000
DTEND;TZID=Australia/Melbourne:20240825T170000
DTSTAMP:20260420T031122
CREATED:20240807T003411Z
LAST-MODIFIED:20240807T003411Z
UID:10000010-1724572800-1724605200@geelong.vanderlyle-geek.co.uk
SUMMARY:4-hr Regular Charter
DESCRIPTION:4-hr regular family-friendly charter
URL:https://geelong.vanderlyle-geek.co.uk/event/4-hr-regular-charter/2024-08-25/2/
LOCATION:Wangim Walk\, Wangim Walk\, 15 Eastern Beach Road\, Geelong\, Victoria\, Australia
ORGANIZER;CN="Geelong Fishing Charters":MAILTO:info@geelongfishingcharter.com.au
END:VEVENT
BEGIN:VEVENT
DTSTART;TZID=Australia/Melbourne:20240825T070000
DTEND;TZID=Australia/Melbourne:20240825T110000
DTSTAMP:20260420T031122
CREATED:20240807T003411Z
LAST-MODIFIED:20240807T003411Z
UID:10000009-1724569200-1724583600@geelong.vanderlyle-geek.co.uk
SUMMARY:4-hr Regular Charter
DESCRIPTION:4-hr regular family-friendly charter
URL:https://geelong.vanderlyle-geek.co.uk/event/4-hr-regular-charter/2024-08-25/1/
LOCATION:Wangim Walk\, Wangim Walk\, 15 Eastern Beach Road\, Geelong\, Victoria\, Australia
ORGANIZER;CN="Geelong Fishing Charters":MAILTO:info@geelongfishingcharter.com.au
END:VEVENT
BEGIN:VEVENT
DTSTART;TZID=Australia/Melbourne:20240824T164500
DTEND;TZID=Australia/Melbourne:20240824T204500
DTSTAMP:20260420T031122
CREATED:20240801T132622Z
LAST-MODIFIED:20240802T091513Z
UID:10000005-1724517900-1724532300@geelong.vanderlyle-geek.co.uk
SUMMARY:2hr short charter
DESCRIPTION:Experience the thrill of the open waters with our exclusive 2-hour fishing charter\, where adventure and relaxation await. Join us for an unforgettable journey as you cast your line\, soak in the stunning surroundings\, and create lasting memories.
URL:https://geelong.vanderlyle-geek.co.uk/event/2hr-short-charter-2/
LOCATION:Wangim Walk\, Wangim Walk\, 15 Eastern Beach Road\, Geelong\, Victoria\, Australia
ATTACH;FMTTYPE=image/jpeg:https://geelong.vanderlyle-geek.co.uk/wp-content/uploads/2024/05/2020_TRACKER_102020_Deep-V-Boats_132020_PRO-GUIDE-V-175-Combo_4920_Lifestyle-Branded_1328171_TPG175C_LS007_20-e1716459993178.jpeg
ORGANIZER;CN="Geelong Fishing Charters":MAILTO:info@geelongfishingcharter.com.au
END:VEVENT
BEGIN:VEVENT
DTSTART;TZID=Australia/Melbourne:20240820T060000
DTEND;TZID=Australia/Melbourne:20240820T100000
DTSTAMP:20260420T031122
CREATED:20240806T174350Z
LAST-MODIFIED:20240814T130248Z
UID:10000008-1724133600-1724148000@geelong.vanderlyle-geek.co.uk
SUMMARY:test
DESCRIPTION:
URL:https://geelong.vanderlyle-geek.co.uk/event/test/
LOCATION:Wangim Walk\, Wangim Walk\, 15 Eastern Beach Road\, Geelong\, Victoria\, Australia
ORGANIZER;CN="Geelong Fishing Charters":MAILTO:info@geelongfishingcharter.com.au
END:VEVENT
END:VCALENDAR